BEGIN:VCALENDAR
VERSION:2.0
PRODID:icalendar-ruby
CALSCALE:GREGORIAN
METHOD:PUBLISH
BEGIN:VTIMEZONE
TZID:Australia/Sydney
BEGIN:DAYLIGHT
DTSTART:20201004T030000
TZOFFSETFROM:+1000
TZOFFSETTO:+1100
RRULE:FREQ=YEARLY;BYDAY=1SU;BYMONTH=10
TZNAME:AEDT
END:DAYLIGHT
BEGIN:STANDARD
DTSTART:20210404T020000
TZOFFSETFROM:+1100
TZOFFSETTO:+1000
RRULE:FREQ=YEARLY;BYDAY=1SU;BYMONTH=4
TZNAME:AEST
END:STANDARD
END:VTIMEZONE
BEGIN:VEVENT
DTSTAMP:20210301T210926Z
UID:inspection_937171
DTSTART;TZID=Australia/Sydney:20210327T113000
DTEND;TZID=Australia/Sydney:20210327T120000
CLASS:PUBLIC
CREATED:20210301T115441
DESCRIPTION: 
LAST-MODIFIED:20210301T115441
LOCATION:13 Nowra Street\, CAMPSIE NSW 2194\, Australia
SUMMARY:13 Nowra Street\,  Inspection
URL:http://www.jknr.com.au/
END:VEVENT
END:VCALENDAR
